BEGIN:VCALENDAR
VERSION:2.0
PRODID:-//Dieburger Schlepper Schrauber - ECPv5.0.2.1//NONSGML v1.0//EN
CALSCALE:GREGORIAN
METHOD:PUBLISH
X-WR-CALNAME:Dieburger Schlepper Schrauber
X-ORIGINAL-URL:http://www.dieburger-schlepper-schrauber.com
X-WR-CALDESC:Veranstaltungen im Dieburger Schlepper Schrauber
BEGIN:VTIMEZONE
TZID:Europe/Berlin
BEGIN:DAYLIGHT
TZOFFSETFROM:+0100
TZOFFSETTO:+0200
TZNAME:CEST
DTSTART:20200329T010000
END:DAYLIGHT
BEGIN:STANDARD
TZOFFSETFROM:+0200
TZOFFSETTO:+0100
TZNAME:CET
DTSTART:20201025T010000
END:STANDARD
END:VTIMEZONE
BEGIN:VEVENT
DTSTART;TZID=Europe/Berlin:20200926T080000
DTEND;TZID=Europe/Berlin:20200926T170000
DTSTAMP:20260421T110751
CREATED:20200926T191406Z
LAST-MODIFIED:20200926T191406Z
UID:2013-1601107200-1601139600@www.dieburger-schlepper-schrauber.com
SUMMARY:10 Oktober Sauerkraut stampfen um 14.00 Uhr beim Steff
DESCRIPTION:
URL:http://www.dieburger-schlepper-schrauber.com/termine/10-oktober-sauerkraut-stampfen-um-14-00-uhr-beim-steff/
END:VEVENT
END:VCALENDAR